BEGIN:VCALENDAR
VERSION:2.0
CALSCALE:GREGORIAN
PRODID:adamgibbons/ics
METHOD:PUBLISH
X-PUBLISHED-TTL:PT1H
BEGIN:VEVENT
UID:523@tucsontimeline.info
SUMMARY:Live at Golden Saguaro: (De)composition\, Aphid\, Frank Tornoe & Ca
	rolyn Toronto
DTSTAMP:20260423T063821Z
DTSTART:20260226T020000Z
DTEND:20260226T050000Z
DESCRIPTION:Two ambient acts and some jazz.
URL:https://tucsontimeline.info/event/live-at-golden-saguaro-decomposition-
	aphid-frank-tornoe-and-carolyn-toronto
LOCATION:Golden Saguaro - 609 East 6th Street
STATUS:CONFIRMED
CATEGORIES:live music,music,performance
X-ALT-DESC;FMTTYPE=text/html:<p>Two ambient acts and some jazz.</p>
END:VEVENT
BEGIN:VEVENT
UID:503@tucsontimeline.info
SUMMARY:Live at Golden Saguaro: Serena Gabriel\, Mayonesa\, and Andy In Spa
	ce
DTSTAMP:20260423T063821Z
DTSTART:20260129T020000Z
DESCRIPTION:ambient sound-healer Serena Gabriel\, noise improv duo Mayonesa
	\, and electropunk\nAndy In Space. see goldensaguaro.org [http://goldensag
	uaro.org] for more info.
URL:https://tucsontimeline.info/event/live-at-golden-saguaro-serena-gabriel
	-mayonesa-and-andy-in-space
LOCATION:Golden Saguaro - 609 East 6th Street
STATUS:CONFIRMED
CATEGORIES:experimental,music
X-ALT-DESC;FMTTYPE=text/html:<p>ambient sound-healer Serena Gabriel, noise 
	improv duo Mayonesa, and electropunk Andy In Space.  see <a target="_blank
	" href="http://goldensaguaro.org">goldensaguaro.org</a> for more info.</p>
END:VEVENT
BEGIN:VEVENT
UID:468@tucsontimeline.info
SUMMARY:June Noriega\, James King\, and Pine Ross
DTSTAMP:20260423T063821Z
DTSTART:20251218T020000Z
DTEND:20251218T050000Z
DESCRIPTION:The experimental monthly series continues at Golden Saguaro. Th
	is month:\n\n * June Noriega\n   [https://soundcloud.com/johnny-hamhock/se
	ts/live-at-ches-lounge-june-2025]\n\n * James King [https://interzone.band
	camp.com/album/centipede]\n\n * Pine Ross [https://www.instagram.com/_pine
	ross_/]\n\nDoors at 7.\n\n$0 to $10 suggested donation. NOAFLOF. All proce
	eds to the artists.\n\nSee https://goldensaguaro.org [https://goldensaguar
	o.org] for more info.
URL:https://tucsontimeline.info/event/june-noriega-james-king-and-pine-ross
LOCATION:Golden Saguaro - 609 East 6th Street
STATUS:CONFIRMED
CATEGORIES:experimental,music,performance
X-ALT-DESC;FMTTYPE=text/html:<p>The experimental monthly series continues a
	t Golden Saguaro. This month:</p><ul><li><p><a href="https://soundcloud.co
	m/johnny-hamhock/sets/live-at-ches-lounge-june-2025" target="_blank">June 
	Noriega</a></p></li><li><p><a href="https://interzone.bandcamp.com/album/c
	entipede" target="_blank">James King</a></p></li><li><p><a href="https://w
	ww.instagram.com/_pineross_/" target="_blank">Pine Ross</a></p></li></ul><
	p>Doors at 7.</p><p>$0 to $10 suggested donation. NOAFLOF. All proceeds to
	 the artists.</p><p>See <a href="https://goldensaguaro.org" target="_blank
	">https://goldensaguaro.org</a> for more info.</p>
END:VEVENT
BEGIN:VEVENT
UID:181@tucsontimeline.info
SUMMARY:Chester Hawkins\, Black Baptist\, Pineross
DTSTAMP:20260423T063821Z
DTSTART:20250227T020000Z
DTEND:20250227T050000Z
DESCRIPTION:A night of dark ambient and noise from 3 locals:\n\nChester Haw
	kins: https://intangiblearts.bandcamp.com/\n[https://intangiblearts.bandca
	mp.com/]\n\nPineross: https://pineross.com/ [https://pineross.com/]\n\nBla
	ck Baptist: https://blackbaptist.bandcamp.com/album/l-ottava-sfera\n[https
	://blackbaptist.bandcamp.com/album/l-ottava-sfera]
URL:https://tucsontimeline.info/event/chester-hawkins-black-baptist-pineros
	s
LOCATION:Golden Saguaro - 609 East 6th Street
STATUS:CONFIRMED
CATEGORIES:music
X-ALT-DESC;FMTTYPE=text/html:<p>A night of dark ambient and noise from 3 lo
	cals:</p><p>Chester Hawkins:  <a target="_blank" href="https://intangiblea
	rts.bandcamp.com/">https://intangiblearts.bandcamp.com/</a></p><p>Pineross
	: <a target="_blank" href="https://pineross.com/">https://pineross.com/</a
	></p><p>Black Baptist: <a target="_blank" href="https://blackbaptist.bandc
	amp.com/album/l-ottava-sfera">https://blackbaptist.bandcamp.com/album/l-ot
	tava-sfera</a></p>
END:VEVENT
BEGIN:VEVENT
UID:149@tucsontimeline.info
SUMMARY:Drumming against Fascism
DTSTAMP:20260423T063821Z
DTSTART:20250123T020000Z
DTEND:20250123T050000Z
DESCRIPTION:Featuring percussionists Mark Pino\, Cullen Chadwick\, and Gym 
	Shower.\n\nIncluding special open mic banging and screaming opportunities!
URL:https://tucsontimeline.info/event/drumming-against-fascism
LOCATION:Golden Saguaro - 609 East 6th Street
STATUS:CONFIRMED
CATEGORIES:activism,community,music,open mic,performance
X-ALT-DESC;FMTTYPE=text/html:<p>Featuring percussionists Mark Pino, Cullen 
	Chadwick, and Gym Shower. </p><p>Including special open mic banging and sc
	reaming opportunities!</p>
END:VEVENT
BEGIN:VEVENT
UID:19@tucsontimeline.info
SUMMARY:Cultural Detox Syndicate\, Worker and Parasite and Marcos Serafim
DTSTAMP:20260423T063821Z
DTSTART:20241024T020000Z
DTEND:20241024T050000Z
DESCRIPTION:Three multimedia acts. CDS at this time will be interdisciplina
	ry artist\nJaqueline Arias. Worker and Parasite are Sleep of Eons (music) 
	and Jellotonin\n(video). Marcos Serafim is a Brazilian artist who explores
	 extreme tensions\nbetween data\, media\, reality\, and representation.
URL:https://tucsontimeline.info/event/cultural-detox-syndicate-worker-and-p
	arasite-and-marcos-serafim
LOCATION:Golden Saguaro - 609 East 6th Street
STATUS:CONFIRMED
CATEGORIES:music,performance,video
X-ALT-DESC;FMTTYPE=text/html:<p><strong>Three multimedia acts.</strong> CDS
	 at this time will be interdisciplinary artist Jaqueline Arias. Worker and
	 Parasite are Sleep of Eons (music) and Jellotonin (video). Marcos Serafim
	 is a Brazilian artist who explores extreme tensions between data, media, 
	reality, and representation.</p>
END:VEVENT
BEGIN:VEVENT
UID:4@tucsontimeline.info
SUMMARY:Improvisor Loteria!
DTSTAMP:20260423T063821Z
DTSTART:20240926T020000Z
DTEND:20240926T050000Z
DESCRIPTION:A gaggle of local free improvising musicians will play short se
	ts in random\ngroups they've possibly never been in before.\n\nIncluding t
	hese participants: Mark Pino\, Steev Hise\, Jerrick Tsotsie\, Jeff\nGreink
	e\, Mark Ferguson\, Nathan Smith\, John Mellilo\, Vicki Brown\, Cullen\nCh
	adwick\, and more!\n\n
URL:https://tucsontimeline.info/event/improvisor-jamboree
LOCATION:Golden Saguaro - 609 East 6th Street
STATUS:CONFIRMED
CATEGORIES:music
X-ALT-DESC;FMTTYPE=text/html:<p>A gaggle of local free improvising musician
	s will play short sets in <strong>random</strong> groups they've possibly 
	never been in before.</p><p>Including these participants:  Mark Pino, Stee
	v Hise, Jerrick Tsotsie, Jeff Greinke, Mark Ferguson, Nathan Smith, John M
	ellilo, Vicki Brown, Cullen Chadwick, and more!</p><p></p>
END:VEVENT
END:VCALENDAR
